BEGIN:VCALENDAR
VERSION:2.0
PRODID:-//Australian Aphasia Association - ECPv6.15.20//NONSGML v1.0//EN
CALSCALE:GREGORIAN
METHOD:PUBLISH
X-WR-CALNAME:Australian Aphasia Association
X-ORIGINAL-URL:https://aphasia.org.au
X-WR-CALDESC:Events for Australian Aphasia Association
REFRESH-INTERVAL;VALUE=DURATION:PT1H
X-Robots-Tag:noindex
X-PUBLISHED-TTL:PT1H
BEGIN:VTIMEZONE
TZID:Australia/Perth
BEGIN:STANDARD
TZOFFSETFROM:+0800
TZOFFSETTO:+0800
TZNAME:AWST
DTSTART:20220101T000000
END:STANDARD
END:VTIMEZONE
BEGIN:VEVENT
DTSTART;TZID=Australia/Perth:20231106T093000
DTEND;TZID=Australia/Perth:20231107T153000
DTSTAMP:20260421T082514
CREATED:20230429T113018Z
LAST-MODIFIED:20231101T064348Z
UID:299-1699263000-1699371000@aphasia.org.au
SUMMARY:14th National Conference: Aphasia Moving Forward
DESCRIPTION:The 2023 AAA Conference Program is now available!\nConference Program \nThe Australian Aphasia Association has a national conference for people living with aphasia every two (2) years.  \nThis conference is organised by:   \n\npeople with aphasia and their families\, \nspeech pathologists\, \nresearchers\,  \nand volunteers. \n\nThe conference helps people to:   \n\ncome together\, \nshare their stories\, \nlearn about aphasia\, \nlearn from each other. \n\nOur 2023 conference will be in Perth\, Western Australia. \n \nWhere: Telethon Speech & Hearing Centre in Wembley\, Western Australia. \nWhen: Monday and Tuesday\, November 6th\, and 7th\, 2023. \nYou can join in person or online. \nFor more details about the conference\, visit the: Australian Aphasia Association National Conference 2023 page.  \nAdditional event:\n\nWednesday 8th will be an exciting opportunity for people with aphasia\, supporters and researchers to come together at Curtin University to collaborate and hear aphasia friendly research presentations. You can also buy tickets for this additional event now. More information about this will be available soon.\n\nRegister here \nEmail: conference@aphasia.org.au
URL:https://aphasia.org.au/event/14th-national-conference-aphasia-moving-forward/
LOCATION:Telethon Speech and Hearing Centre\, 36 Dodd St\, Wembley WA 6014\, Perth\, WA\, 6014\, Australia
ATTACH;FMTTYPE=image/jpeg:https://aphasia.org.au/wp-content/uploads/2023/08/WebContent13.05.23-83-e1696026959971.jpg
END:VEVENT
END:VCALENDAR